BEGIN:VCALENDAR
VERSION:2.0
PRODID:-//Essential Institute by Cris Bolívar
CALSCALE:GREGORIAN
METHOD:PUBLISH
X-WR-CALNAME:Essential Institute by Cris Bolívar
X-ORIGINAL-URL:https://www.essentialinstitute.org/tienda/_eventos/programas-formativos/opcion-completa-programa-de-especializacion-de-filosofia-para-coaches/
X-WR-CALDESC:OPCIÓN COMPLETA &#8211; Programa de Especialización de Filosofía para Coaches
BEGIN:VEVENT
DTSTART;TZID=Europe/London:20170224T190000
DTEND;TZID=Europe/London:20170224T220000
SUMMARY:OPCIÓN COMPLETA – Programa de Especialización de Filosofía para Coaches
DESCRIPTION:Programa de Especialización de Filosofía para Coaches. Primer programa específico de filosofía aplicado al desarrollo personal.
URL:https://www.essentialinstitute.org/tienda/_eventos/programas-formativos/opcion-completa-programa-de-especializacion-de-filosofia-para-coaches/
LOCATION:Barcelona, España
END:VEVENT
END:VCALENDAR
