BEGIN:VCALENDAR
VERSION:2.0
PRODID:-//Essential Institute by Cris Bolívar
CALSCALE:GREGORIAN
METHOD:PUBLISH
X-WR-CALNAME:Essential Institute by Cris Bolívar
X-ORIGINAL-URL:https://www.essentialinstitute.org/tienda/ticket/conferencia-gratuita-el-coaching-como-profesion-hoy/
X-WR-CALDESC:Conferencia gratuita: “El coaching como profesión hoy”
BEGIN:VEVENT
DTSTART;TZID=Europe/London:20170214T180000
DTEND;TZID=Europe/London:20170214T193000
SUMMARY:Conferencia gratuita: “El coaching como profesión hoy”
DESCRIPTION:El coaching es una profesión emergente en un momento histórico relevante, ver qué puede aportar un coach, cual es su rol, qué es el coaching de calidad, formación y competencias del coach, situación actual de la profesión ...
URL:https://www.essentialinstitute.org/tienda/ticket/conferencia-gratuita-el-coaching-como-profesion-hoy/
LOCATION:Barcelona, España
END:VEVENT
END:VCALENDAR
