BEGIN:VCALENDAR
VERSION:2.0
PRODID:-//Essential Institute by Cris Bolívar
CALSCALE:GREGORIAN
METHOD:PUBLISH
X-WR-CALNAME:Essential Institute by Cris Bolívar
X-ORIGINAL-URL:https://www.essentialinstitute.org/tienda/ticket/taller-gratuito-en-ronda-barcelona-como-ser-felices/
X-WR-CALDESC:TALLER GRATUITO en Ronda Barcelona: «¿Cómo ser felices?»
BEGIN:VEVENT
DTSTART;TZID=Europe/London:20170211T110000
DTEND;TZID=Europe/London:20170211T140000
SUMMARY:TALLER GRATUITO en Ronda Barcelona: «¿Cómo ser felices?»
DESCRIPTION:En este taller exploraremos qué es la felicidad, algunas de sus definiciones y conceptos relacionados como la plenitud, la alegría, el éxito, el deseo, la necesidad, sabiduría, …. que nos ayudan a ser o no felices y haremos ejercicios desde el Coaching Esencial que nos ayuden a conectar con nuestra propia fuente de felicidad y sabiduría interior.
URL:https://www.essentialinstitute.org/tienda/ticket/taller-gratuito-en-ronda-barcelona-como-ser-felices/
LOCATION:Barcelona, España
END:VEVENT
END:VCALENDAR
