BEGIN:VCALENDAR
VERSION:2.0
PRODID:-//Essential Institute by Cris Bolívar
CALSCALE:GREGORIAN
METHOD:PUBLISH
X-WR-CALNAME:Essential Institute by Cris Bolívar
X-ORIGINAL-URL:https://www.essentialinstitute.org/tienda/ticket/taller-collage-da-vida-a-tus-suenos-en-conexion-con-tu-nin-interior-hacia-tu-estrella-polar/
X-WR-CALDESC:Taller-Collage «Da vida a tus sueños en conexión con tu niñ@ interior hacia tu estrella polar»
BEGIN:VEVENT
DTSTART;TZID=Europe/London:20170218T100000
DTEND;TZID=Europe/London:20170218T150000
SUMMARY:Taller-Collage «Da vida a tus sueños en conexión con tu niñ@ interior hacia tu estrella polar»
DESCRIPTION:Para empezar el 2017 en conexión con nuestr@ niñ@ interior y orientarnos hacia nuestra estrella polar, nuestro sueño, nuestro sentido, nuestra misión.
URL:https://www.essentialinstitute.org/tienda/ticket/taller-collage-da-vida-a-tus-suenos-en-conexion-con-tu-nin-interior-hacia-tu-estrella-polar/
LOCATION:Barcelona, España
END:VEVENT
END:VCALENDAR
