BEGIN:VCALENDAR
VERSION:2.0
PRODID:-//Essential Institute by Cris Bolívar
CALSCALE:GREGORIAN
METHOD:PUBLISH
X-WR-CALNAME:Essential Institute by Cris Bolívar
X-ORIGINAL-URL:https://www.essentialinstitute.org/tienda/ticket/conferencia-online-filosofia-y-coaching-aportaciones-y-claves-para-el-ser-del-coach-y-su-rol/
X-WR-CALDESC:Conferencia online “Filosofía y coaching: aportaciones y claves para el ser del coach y su rol”
BEGIN:VEVENT
DTSTART;TZID=Europe/London:20170317T010000
DTEND;TZID=Europe/London:20170317T040000
SUMMARY:Conferencia online “Filosofía y coaching: aportaciones y claves para el ser del coach y su rol”
DESCRIPTION:En este webinar platearemos conceptos que se llevarán a la discusión filosófica y a su aplicación en el coaching.
URL:https://www.essentialinstitute.org/tienda/ticket/conferencia-online-filosofia-y-coaching-aportaciones-y-claves-para-el-ser-del-coach-y-su-rol/
LOCATION:Barcelona, España
END:VEVENT
END:VCALENDAR
