BEGIN:VCALENDAR
VERSION:2.0
PRODID:-//Essential Institute by Cris Bolívar
CALSCALE:GREGORIAN
METHOD:PUBLISH
X-WR-CALNAME:Essential Institute by Cris Bolívar
X-ORIGINAL-URL:https://www.essentialinstitute.org/tienda/ticket/gratuito-sophia-cuando-la-musica-y-la-sabiduria-se-dan-la-mano/
X-WR-CALDESC:GRATUITO: SOphia, cuando la música y la sabiduría se dan la mano.
BEGIN:VEVENT
DTSTART;TZID=Europe/London:20170401T170000
DTEND;TZID=Europe/London:20170401T200000
SUMMARY:GRATUITO: SOphia, cuando la música y la sabiduría se dan la mano.
DESCRIPTION:"La danza de la sabiduría" es un espectáculo que funde textos que hablan de la sabiduría con el arte de la danza clásica hindú Kathak.
URL:https://www.essentialinstitute.org/tienda/ticket/gratuito-sophia-cuando-la-musica-y-la-sabiduria-se-dan-la-mano/
LOCATION:Barcelona, España
END:VEVENT
END:VCALENDAR
