BEGIN:VCALENDAR
VERSION:2.0
PRODID:-//Essential Institute by Cris Bolívar
CALSCALE:GREGORIAN
METHOD:PUBLISH
X-WR-CALNAME:Essential Institute by Cris Bolívar
X-ORIGINAL-URL:https://www.essentialinstitute.org/tienda/ticket/conferencia-gratuita-webinar-aportaciones-y-claves-de-la-filosofia-al-coaching-essential-institute-en-la-vi-semana-internacional-de-coaching-sic-icf/
X-WR-CALDESC:Conferencia gratuita WEBINAR «Aportaciones y claves de la Filosofía al coaching»: Essential Institute en la VI Semana Internacional de Coaching (SIC), ICF
BEGIN:VEVENT
DTSTART;TZID=Europe/London:20170519T130000
DTEND;TZID=Europe/London:20170519T140000
SUMMARY:Conferencia gratuita WEBINAR «Aportaciones y claves de la Filosofía al coaching»: Essential Institute en la VI Semana Internacional de Coaching (SIC), ICF
DESCRIPTION:Essential Institute ofrece actividades gratuitas durante VI Semana Internacional del Coaching (SIC), ICF
URL:https://www.essentialinstitute.org/tienda/ticket/conferencia-gratuita-webinar-aportaciones-y-claves-de-la-filosofia-al-coaching-essential-institute-en-la-vi-semana-internacional-de-coaching-sic-icf/
LOCATION:Barcelona, España
END:VEVENT
END:VCALENDAR
