BEGIN:VCALENDAR
VERSION:2.0
PRODID:-//Essential Institute by Cris Bolívar
CALSCALE:GREGORIAN
METHOD:PUBLISH
X-WR-CALNAME:Essential Institute by Cris Bolívar
X-ORIGINAL-URL:https://www.essentialinstitute.org/tienda/ticket/conferencia-gratuita-online-el-eneagrama-como-potente-herramienta-para-el-coaching-icf-argentina/
X-WR-CALDESC:Conferencia Gratuita Online “El Eneagrama como potente herramienta para el coaching” &#8211; ICF Argentina
BEGIN:VEVENT
DTSTART;TZID=Europe/London:20170921T183000
DTEND;TZID=Europe/London:20170921T203000
SUMMARY:Conferencia Gratuita Online “El Eneagrama como potente herramienta para el coaching” – ICF Argentina
DESCRIPTION:En este webinar hablaremos del Eneagrama aplicado al coaching como una potente herramienta.
URL:https://www.essentialinstitute.org/tienda/ticket/conferencia-gratuita-online-el-eneagrama-como-potente-herramienta-para-el-coaching-icf-argentina/
LOCATION:Barcelona, España
END:VEVENT
END:VCALENDAR
