BEGIN:VCALENDAR
VERSION:2.0
PRODID:-//Essential Institute by Cris Bolívar
CALSCALE:GREGORIAN
METHOD:PUBLISH
X-WR-CALNAME:Essential Institute by Cris Bolívar
X-ORIGINAL-URL:https://www.essentialinstitute.org/tienda/ticket/sesiones-grupales-quasi-presenciales-on-line-de-eneagrama-para-el-desarrollo-personal-profesional-y-la-mejora-de-las-relaciones-interpersonales-9/
X-WR-CALDESC:Sesiones grupales QUASI-presenciales ON-LINE de ENEAGRAMA para el desarrollo personal, profesional y la mejora de las relaciones interpersonales.
BEGIN:VEVENT
DTSTART;TZID=Europe/London:20170601T200000
DTEND;TZID=Europe/London:20170601T210000
SUMMARY:Sesiones grupales QUASI-presenciales ON-LINE de ENEAGRAMA para el desarrollo personal, profesional y la mejora de las relaciones interpersonales.
DESCRIPTION:Grupo de trabajo con Eneagrama psicológico y sufí y el Coaching Esencial, para el desarrollo personal, profesional y la aplicación al trabajo como coach. Con puntos para su acreditación por la International Enneagram Association.
URL:https://www.essentialinstitute.org/tienda/ticket/sesiones-grupales-quasi-presenciales-on-line-de-eneagrama-para-el-desarrollo-personal-profesional-y-la-mejora-de-las-relaciones-interpersonales-9/
LOCATION:Barcelona, España
END:VEVENT
END:VCALENDAR
