BEGIN:VCALENDAR
VERSION:2.0
PRODID:-//Essential Institute by Cris Bolívar
CALSCALE:GREGORIAN
METHOD:PUBLISH
X-WR-CALNAME:Essential Institute by Cris Bolívar
X-ORIGINAL-URL:https://www.essentialinstitute.org/tienda/_eventos/programas-formativos/grupo-para-practicar-el-coaching-esencial/
X-WR-CALDESC:Grupo para «PRACTICAR EL COACHING ESENCIAL»
BEGIN:VEVENT
DTSTART;TZID=Europe/London:20170529T200000
DTEND;TZID=Europe/London:20170529T213000
SUMMARY:Grupo para «PRACTICAR EL COACHING ESENCIAL»
DESCRIPTION:Grupo de trabajo con Eneagrama psicológico y sufí y el Coaching Esencial, para el desarrollo personal, profesional y la aplicación al trabajo como coach. Con puntos para su acreditación por la International Enneagram Association.
URL:https://www.essentialinstitute.org/tienda/_eventos/programas-formativos/grupo-para-practicar-el-coaching-esencial/
LOCATION:Barcelona, España
END:VEVENT
END:VCALENDAR
