BEGIN:VCALENDAR
VERSION:2.0
PRODID:-//Essential Institute by Cris Bolívar
CALSCALE:GREGORIAN
METHOD:PUBLISH
X-WR-CALNAME:Essential Institute by Cris Bolívar
X-ORIGINAL-URL:https://www.essentialinstitute.org/tienda/_eventos/coaching/taller-introduccion-al-eneagrama-desarrollo-del-esencial/
X-WR-CALDESC:TALLER de INTRODUCCIÓN al ENEAGRAMA para el DESARROLLO del SER ESENCIAL (y para coaches)
BEGIN:VEVENT
DTSTART;TZID=Europe/Helsinki:20180318T100000
DTEND;TZID=Europe/Helsinki:20180318T150000
SUMMARY:TALLER de INTRODUCCIÓN al ENEAGRAMA para el DESARROLLO del SER ESENCIAL (y para coaches)
DESCRIPTION:Taller de introducción al Eneagrama para el desarrollo del ser esencial. Con puntos para su acreditación por la IEA.
URL:https://www.essentialinstitute.org/tienda/_eventos/coaching/taller-introduccion-al-eneagrama-desarrollo-del-esencial/
LOCATION:Barcelona, España
END:VEVENT
END:VCALENDAR
