BEGIN:VCALENDAR
VERSION:2.0
PRODID:-//Essential Institute by Cris Bolívar
CALSCALE:GREGORIAN
METHOD:PUBLISH
X-WR-CALNAME:Essential Institute by Cris Bolívar
X-ORIGINAL-URL:https://www.essentialinstitute.org/tienda/_eventos/thubten-sherab-ling/essential-institute-economia-humana/
X-WR-CALDESC:Essential Institute en ECONOMIA HUMANA &#8211; Desayuno/networking
BEGIN:VEVENT
DTSTART;TZID=Europe/Helsinki:20180406T083000
DTEND;TZID=Europe/Helsinki:20180406T113000
SUMMARY:Essential Institute en ECONOMIA HUMANA – Desayuno/networking
DESCRIPTION:Presentació centrada en aprofundir en la mirada essencial i la generació de saviesa des de diferents eines desenvolupades pel Essential Institute, aplicades a l'àmbit personal, organitzacional i social, per a un món més sostenible i una vida més plena.
URL:https://www.essentialinstitute.org/tienda/_eventos/thubten-sherab-ling/essential-institute-economia-humana/
LOCATION:Mailuna, Calle Valldonzella, 48, Barcelona, España
END:VEVENT
END:VCALENDAR
