BEGIN:VCALENDAR
VERSION:2.0
PRODID:-//Essential Institute by Cris Bolívar
CALSCALE:GREGORIAN
METHOD:PUBLISH
X-WR-CALNAME:Essential Institute by Cris Bolívar
X-ORIGINAL-URL:https://www.essentialinstitute.org/tienda/_eventos/programas-formativos/programa-sabiduria-milenaria-aplicada-al-desarrollo-del-esencial-coaching/
X-WR-CALDESC:Programa de «SABIDURÍA MILENARIA» aplicada al desarrollo del Ser Esencial y el coaching
BEGIN:VEVENT
DTSTART;TZID=Europe/Helsinki:20180528T190000
DTEND;TZID=Europe/Helsinki:20180528T220000
SUMMARY:Programa de «SABIDURÍA MILENARIA» aplicada al desarrollo del Ser Esencial y el coaching
DESCRIPTION:250 € en concepto reserva de plaza. Consultar toda la información de calendario y programa en el pdf descargable. Primer programa específico de filosofías milenarias aplicado al desarrollo del ser esencial y al coaching para el desarrollo de la sabiduría. Impartido por Maestros y profesores expertos en sus áreas.
URL:https://www.essentialinstitute.org/tienda/_eventos/programas-formativos/programa-sabiduria-milenaria-aplicada-al-desarrollo-del-esencial-coaching/
LOCATION:Barcelona, España
END:VEVENT
END:VCALENDAR
