BEGIN:VCALENDAR
VERSION:2.0
PRODID:-//Essential Institute by Cris Bolívar
CALSCALE:GREGORIAN
METHOD:PUBLISH
X-WR-CALNAME:Essential Institute by Cris Bolívar
X-ORIGINAL-URL:https://www.essentialinstitute.org/tienda/_eventos/thubten-sherab-ling/retiro-vive-esencial-2/
X-WR-CALDESC:Retiro «Vive tu Ser Esencial»
BEGIN:VEVENT
DTSTART;TZID=Europe/Helsinki:20181026T180000
DTEND;TZID=Europe/Helsinki:20181026T170000
SUMMARY:Retiro «Vive tu Ser Esencial»
DESCRIPTION:150€ del retiro + 100€ por el alojamiento y las comidas de viernes a domingo. Si vienes con acompañante (estancia sin curso) solo ha de pagar la casa (100€). Niños acompañantes menores 2 años gratuito, menores de 12 años (50€) Descarga el pdf para ver toda la información. Un retiro donde vivir tu ser esencial ... con grandes maestros que te acompañaran a conectar con tu sabiduría interior a través de la meditación, el yoga, la psicología transpersonal y esencial, el arte, filosofías orientales y budismo ...
URL:https://www.essentialinstitute.org/tienda/_eventos/thubten-sherab-ling/retiro-vive-esencial-2/
LOCATION:Masia Soronells, Espinelvas, España
END:VEVENT
END:VCALENDAR
