BEGIN:VCALENDAR
VERSION:2.0
PRODID:-//Essential Institute by Cris Bolívar
CALSCALE:GREGORIAN
METHOD:PUBLISH
X-WR-CALNAME:Essential Institute by Cris Bolívar
X-ORIGINAL-URL:https://www.essentialinstitute.org/tienda/_eventos/thubten-sherab-ling/caminar-meditar-compartir-cerca-del-mar-camino-ronda-canet-calella/
X-WR-CALDESC:Caminar, meditar y compartir &#8230; cerca del mar, por el Camino de Ronda de Canet a Calella.
BEGIN:VEVENT
DTSTART;TZID=Europe/Helsinki:20180721T181500
DTEND;TZID=Europe/Helsinki:20180721T220000
SUMMARY:Caminar, meditar y compartir … cerca del mar, por el Camino de Ronda de Canet a Calella.
DESCRIPTION:Excursión por el camino de ronda de Canet de Mar a Calella, parándonos en bellos lugares y con meditación.
URL:https://www.essentialinstitute.org/tienda/_eventos/thubten-sherab-ling/caminar-meditar-compartir-cerca-del-mar-camino-ronda-canet-calella/
LOCATION:Placeta Mercè Viader, Canet de Mar, España
END:VEVENT
END:VCALENDAR
