BEGIN:VCALENDAR
VERSION:2.0
PRODID:-//Essential Institute by Cris Bolívar
CALSCALE:GREGORIAN
METHOD:PUBLISH
X-WR-CALNAME:Essential Institute by Cris Bolívar
X-ORIGINAL-URL:https://www.essentialinstitute.org/tienda/_eventos/coaching/i-encuentro-internacional-coaches-esenciales/
X-WR-CALDESC:«I ENCUENTRO INTERNACIONAL DE COACHING ESENCIAL» &#8211; CELEBRANDO 15 AÑOS DE COACHING ESENCIAL!!!
BEGIN:VEVENT
DTSTART;TZID=Europe/Helsinki:20180928T150000
DTEND;TZID=Europe/Helsinki:20180928T200000
SUMMARY:«I ENCUENTRO INTERNACIONAL DE COACHING ESENCIAL» – CELEBRANDO 15 AÑOS DE COACHING ESENCIAL!!!
DESCRIPTION:El lema del encuentro: Compartir y Celebrar. Un encuentro abierto y gratuito, orientado a todo aquel interesado en la mirada esencial y a la reconexión con la esencia y la sabiduría, fuesen o no coaches. Un evento diseñado para celebrar, compartir, inspirarse y co-crear sabiduría entre todos!!!
URL:https://www.essentialinstitute.org/tienda/_eventos/coaching/i-encuentro-internacional-coaches-esenciales/
LOCATION:Carrer del Consell de Cent, 382, Barcelona, España
END:VEVENT
END:VCALENDAR
