BEGIN:VCALENDAR
VERSION:2.0
PRODID:-//Essential Institute by Cris Bolívar
CALSCALE:GREGORIAN
METHOD:PUBLISH
X-WR-CALNAME:Essential Institute by Cris Bolívar
X-ORIGINAL-URL:https://www.essentialinstitute.org/tienda/_eventos/thubten-sherab-ling/meditaciones-ensenanzas-dia-internacional-la-paz-i-festival-solidario-internacional-la-paz-mundial-gran-canaria-ricard-rotllan/
X-WR-CALDESC:MEDITACIONES y ENSEÑANZAS en el Día Internacional de la Paz. I Festival Solidario Internacional por la Paz Mundial. Gran Canaria. Por Ricard Rotllan
BEGIN:VEVENT
DTSTART;TZID=Atlantic/Azores:20180921T100000
DTEND;TZID=Atlantic/Azores:20180921T230000
SUMMARY:MEDITACIONES y ENSEÑANZAS en el Día Internacional de la Paz. I Festival Solidario Internacional por la Paz Mundial. Gran Canaria. Por Ricard Rotllan
DESCRIPTION:Meditaciones y Enseñanzas teórico prácticas en las que podrás desarrollar la paz, el amor, la compasión y la sabiduría. &nbsp;
URL:https://www.essentialinstitute.org/tienda/_eventos/thubten-sherab-ling/meditaciones-ensenanzas-dia-internacional-la-paz-i-festival-solidario-internacional-la-paz-mundial-gran-canaria-ricard-rotllan/
LOCATION:Playa de Las Canteras : Plaza de la Puntilla y Plaza Saulo Torón.
END:VEVENT
END:VCALENDAR
