BEGIN:VCALENDAR
VERSION:2.0
PRODID:-//Essential Institute by Cris Bolívar
CALSCALE:GREGORIAN
METHOD:PUBLISH
X-WR-CALNAME:Essential Institute by Cris Bolívar
X-ORIGINAL-URL:https://www.essentialinstitute.org/tienda/_eventos/thubten-sherab-ling/conferencia-gran-yogi-poeta-milarepa-del-tibet/
X-WR-CALDESC:Conferencia: EL GRAN YOGI Y POETA MILAREPA DEL TIBET
BEGIN:VEVENT
DTSTART;TZID=Europe/Helsinki:20181114T193000
DTEND;TZID=Europe/Helsinki:20181114T210000
SUMMARY:Conferencia: EL GRAN YOGI Y POETA MILAREPA DEL TIBET
DESCRIPTION:EL GRAN YOGI Y POETA MILAREPA DEL TIBET
URL:https://www.essentialinstitute.org/tienda/_eventos/thubten-sherab-ling/conferencia-gran-yogi-poeta-milarepa-del-tibet/
LOCATION:C/Consell de Cent 382, local. Barcelona
END:VEVENT
END:VCALENDAR
