BEGIN:VCALENDAR
VERSION:2.0
PRODID:-//Essential Institute by Cris Bolívar
CALSCALE:GREGORIAN
METHOD:PUBLISH
X-WR-CALNAME:Essential Institute by Cris Bolívar
X-ORIGINAL-URL:https://www.essentialinstitute.org/tienda/_eventos/empresa/modulo-formacion-avanzada-eneagrama-la-generacion-equipos-alto-rendimiento/
X-WR-CALDESC:Módulo de FORMACIÓN AVANZADA: “EL ENEAGRAMA PARA LA GENERACIÓN DE EQUIPOS DE ALTO RENDIMIENTO”
BEGIN:VEVENT
DTSTART;TZID=Europe/Helsinki:20190225T100000
DTEND;TZID=Europe/Helsinki:20190225T140000
SUMMARY:Módulo de FORMACIÓN AVANZADA: “EL ENEAGRAMA PARA LA GENERACIÓN DE EQUIPOS DE ALTO RENDIMIENTO”
DESCRIPTION:En este taller exploraremos qué es el eneagrama más allá de la descripción de eneatipos psicológicos, y su aplicación para facilitar la generación de equipos de alto rendimiento. No hacen falta conocimientos previos de eneagrama.
URL:https://www.essentialinstitute.org/tienda/_eventos/empresa/modulo-formacion-avanzada-eneagrama-la-generacion-equipos-alto-rendimiento/
LOCATION:
END:VEVENT
END:VCALENDAR
