BEGIN:VCALENDAR
VERSION:2.0
PRODID:-//Essential Institute by Cris Bolívar
CALSCALE:GREGORIAN
METHOD:PUBLISH
X-WR-CALNAME:Essential Institute by Cris Bolívar
X-ORIGINAL-URL:https://www.essentialinstitute.org/tienda/_eventos/thubten-sherab-ling/taller-despertar-la-sabiduria-interior-3/
X-WR-CALDESC:Taller «DESPERTAR LA SABIDURÍA INTERIOR»
BEGIN:VEVENT
DTSTART;TZID=Europe/Helsinki:20190615T100000
DTEND;TZID=Europe/Helsinki:20190615T140000
SUMMARY:Taller «DESPERTAR LA SABIDURÍA INTERIOR»
DESCRIPTION:En este taller exploraremos qué es la sabiduría interior y cómo desarrollarla en nosotros para tener una mejor relación con uno mismo desde un mayor autoconocimiento, autoestima, autoconfianza y autoafirmación de forma que nos lleve a tener relaciones también más satisfactorias con los demás desde el ser esencial y no desde los egos.
URL:https://www.essentialinstitute.org/tienda/_eventos/thubten-sherab-ling/taller-despertar-la-sabiduria-interior-3/
LOCATION:Plaza Sant Joan 17, 4t 4ª, Lleida
END:VEVENT
END:VCALENDAR
