BEGIN:VCALENDAR
VERSION:2.0
PRODID:-//Essential Institute by Cris Bolívar
CALSCALE:GREGORIAN
METHOD:PUBLISH
X-WR-CALNAME:Essential Institute by Cris Bolívar
X-ORIGINAL-URL:https://www.essentialinstitute.org/tienda/_eventos/coaching/taller-arte-preguntar-coaching-esencial-4/
X-WR-CALDESC:TALLER «El Arte de Preguntar en Coaching Esencial»
BEGIN:VEVENT
DTSTART;TZID=Europe/Helsinki:20190715T153000
DTEND;TZID=Europe/Helsinki:20190715T213000
SUMMARY:TALLER «El Arte de Preguntar en Coaching Esencial»
DESCRIPTION:Taller donde se trabaja en la mayéutica socrática, el aprendizaje de tercer orden y la hermenéutica aplicados al arte de preguntar en Coaching Esencial. Con créditos de formación ICF.
URL:https://www.essentialinstitute.org/tienda/_eventos/coaching/taller-arte-preguntar-coaching-esencial-4/
LOCATION:Carrer Ceràmica, 39, 08035 Barcelona, España
END:VEVENT
END:VCALENDAR
