BEGIN:VCALENDAR
VERSION:2.0
PRODID:-//Essential Institute by Cris Bolívar
CALSCALE:GREGORIAN
METHOD:PUBLISH
X-WR-CALNAME:Essential Institute by Cris Bolívar
X-ORIGINAL-URL:https://www.essentialinstitute.org/tienda/_eventos/thubten-sherab-ling/essential-institute-ii-festival-internacional-open-heart/
X-WR-CALDESC:Essential Institute en el II Festival Internacional OPEN HEART &#8211; ENEAGRAMA, MEDITACIÓN Y COACHING ESENCIAL
BEGIN:VEVENT
DTSTART;TZID=Europe/Helsinki:20191011T220000
DTEND;TZID=Europe/Helsinki:20191013T230000
SUMMARY:Essential Institute en el II Festival Internacional OPEN HEART – ENEAGRAMA, MEDITACIÓN Y COACHING ESENCIAL
DESCRIPTION:ENEAGRAMA, MEDITACIÓN Y COACHING ESENCIAL, con Ricard Rotllan, Cris Bolívar y QUIM CHICO. II FESTIVAL OPEN HEART, un encuentro con Maestros y Artistas para celebrar y abrir el corazón al Amor, la Paz y la Unidad en la Diversidad.
URL:https://www.essentialinstitute.org/tienda/_eventos/thubten-sherab-ling/essential-institute-ii-festival-internacional-open-heart/
LOCATION:Masia De Can Ratés-Santa Susanna, Carrer Montseny, 1, 08398 Santa Susanna, Barcelona, España
END:VEVENT
END:VCALENDAR
