BEGIN:VCALENDAR
VERSION:2.0
PRODID:-//Essential Institute by Cris Bolívar
CALSCALE:GREGORIAN
METHOD:PUBLISH
X-WR-CALNAME:Essential Institute by Cris Bolívar
X-ORIGINAL-URL:https://www.essentialinstitute.org/tienda/_eventos/thubten-sherab-ling/retiro-urbano-bano-bosque-vive-esencial-2/
X-WR-CALDESC:Retiro urbano de baño de bosque «Vive tu Ser Esencial»
BEGIN:VEVENT
DTSTART;TZID=Europe/Helsinki:20191109T100000
DTEND;TZID=Europe/Helsinki:20191109T200000
SUMMARY:Retiro urbano de baño de bosque «Vive tu Ser Esencial»
DESCRIPTION:&nbsp; Retiro urbano de baño de bosque en el espacio de Collserola (Barcelona) de Essential Institute. Un día para regalarte y disfrutar del silencio, la meditación, los mantras, con reflexiones e inspiración de la filosofía y la psicología budista que facilitaran una experiencia profunda y significativa en el viaje hacia el ser esencial y la sabiduría. Dirigido por el Maestro Acharya Ricard Rotllan.
URL:https://www.essentialinstitute.org/tienda/_eventos/thubten-sherab-ling/retiro-urbano-bano-bosque-vive-esencial-2/
LOCATION:Carrer Ceràmica, 39, 08035 Barcelona, España
END:VEVENT
END:VCALENDAR
