BEGIN:VCALENDAR
VERSION:2.0
PRODID:-//Essential Institute by Cris Bolívar
CALSCALE:GREGORIAN
METHOD:PUBLISH
X-WR-CALNAME:Essential Institute by Cris Bolívar
X-ORIGINAL-URL:https://www.essentialinstitute.org/tienda/_eventos/artisticamente/programa-desarrolla-traves-del-arte-taller-modulo-i-fotografia-narrativa-teatro/
X-WR-CALDESC:Programa «Desarrolla tu Ser a través del Arte &#8211; Taller MÓDULO I: fotografía, narrativa y teatro»
BEGIN:VEVENT
DTSTART;TZID=Europe/Helsinki:20191124T100000
DTEND;TZID=Europe/Helsinki:20191124T190000
SUMMARY:Programa «Desarrolla tu Ser a través del Arte – Taller MÓDULO I: fotografía, narrativa y teatro»
DESCRIPTION:En este taller Módulo I, experiencial y práctico, exploraremos y conectaremos con el ser esencial a través de técnicas artísticas como la fotografía, la narrativa y el teatro, y del Coaching Esencial.
URL:https://www.essentialinstitute.org/tienda/_eventos/artisticamente/programa-desarrolla-traves-del-arte-taller-modulo-i-fotografia-narrativa-teatro/
LOCATION:Carrer Ceràmica, 39, 08035 Barcelona, España
END:VEVENT
END:VCALENDAR
