BEGIN:VCALENDAR
VERSION:2.0
PRODID:-//Essential Institute by Cris Bolívar
CALSCALE:GREGORIAN
METHOD:PUBLISH
X-WR-CALNAME:Essential Institute by Cris Bolívar
X-ORIGINAL-URL:https://www.essentialinstitute.org/tienda/cupones/570-e/
X-WR-CALDESC:570 €
BEGIN:VEVENT
DTSTART;TZID=Europe/Helsinki:20191001T000000
DTEND;TZID=Europe/Helsinki:20220101T000000
SUMMARY:570 €
DESCRIPTION:Tiquet para pagos por importe de 570 €
URL:https://www.essentialinstitute.org/tienda/cupones/570-e/
LOCATION:
END:VEVENT
END:VCALENDAR
