BEGIN:VCALENDAR
VERSION:2.0
PRODID:-//Essential Institute by Cris Bolívar
CALSCALE:GREGORIAN
METHOD:PUBLISH
X-WR-CALNAME:Essential Institute by Cris Bolívar
X-ORIGINAL-URL:https://www.essentialinstitute.org/tienda/_eventos/coaching/programa-sanar-la-herida-conectar-esencial-vivir-plenitud-armonizarnos-desde-la-consciencia-del-cuerpo/
X-WR-CALDESC:Programa «SANAR LA HERIDA Y CONECTAR CON TU SER ESENCIAL PARA VIVIR EN PLENITUD. ARMONIZARNOS DESDE LA CONSCIENCIA DEL CUERPO»
BEGIN:VEVENT
DTSTART;TZID=Europe/Helsinki:20200302T180000
DTEND;TZID=Europe/Helsinki:20200302T223000
SUMMARY:Programa «SANAR LA HERIDA Y CONECTAR CON TU SER ESENCIAL PARA VIVIR EN PLENITUD. ARMONIZARNOS DESDE LA CONSCIENCIA DEL CUERPO»
DESCRIPTION:El importe de 125 eur. corresponde a la reserva de plaza. A través de la consciencia corporal, armonizaremos también nuestra consciencia mental y emocional. En este taller facilitaremos la conexión con el ser esencial a través del Coaching Esencial, el Voice Dialogue, ejercicios de Yoga Tibetano y Danza... para abrir consciencia, equilibrar nuestra energía y sanar nuestro cuerpo. Desde esta mente clara y centrada en el momento presente facilitaremos evolucionar para ser felices y proyectar nuestra vida libre y plenamente. &nbsp;
URL:https://www.essentialinstitute.org/tienda/_eventos/coaching/programa-sanar-la-herida-conectar-esencial-vivir-plenitud-armonizarnos-desde-la-consciencia-del-cuerpo/
LOCATION:Carrer del Topazi, 8, Barcelona, España
END:VEVENT
END:VCALENDAR
