BEGIN:VCALENDAR
VERSION:2.0
PRODID:-//Essential Institute by Cris Bolívar
CALSCALE:GREGORIAN
METHOD:PUBLISH
X-WR-CALNAME:Essential Institute by Cris Bolívar
X-ORIGINAL-URL:https://www.essentialinstitute.org/tienda/_eventos/programas-formativos/programa-formacion-formadores-esenciales/
X-WR-CALDESC:Programa de FORMACIÓN DE FORMADORES ESENCIALES
BEGIN:VEVENT
DTSTART;TZID=Europe/Helsinki:20200515T180000
DTEND;TZID=Europe/Helsinki:20200515T220000
SUMMARY:Programa de FORMACIÓN DE FORMADORES ESENCIALES
DESCRIPTION:El importe de 550 eur corresponde con la reserva de plaza. Puedes ver el importe total y toda la información en el pdf descargable. El presente programa responde a la demanda de formación de formadores esenciales y de gestión de equipos, para generar aprendizaje y transformación en profundidad desde un estilo de formador-coach que permita, en cualquiera de sus aplicaciones y contenidos, facilitar facilitar una formación para Ser y no solo para hacer o saber. Este programa se fundamenta en los principios de la Esencialidad y aplica el Coaching Esencial y el Eneagrama Esencial.
URL:https://www.essentialinstitute.org/tienda/_eventos/programas-formativos/programa-formacion-formadores-esenciales/
LOCATION:Carrer Ceràmica, 39, 08035 Barcelona, España
END:VEVENT
END:VCALENDAR
