BEGIN:VCALENDAR
VERSION:2.0
PRODID:-//Essential Institute by Cris Bolívar
CALSCALE:GREGORIAN
METHOD:PUBLISH
X-WR-CALNAME:Essential Institute by Cris Bolívar
X-ORIGINAL-URL:https://www.essentialinstitute.org/tienda/_eventos/thubten-sherab-ling/taller-practica-intensiva-meditacion-la-calma-mental/
X-WR-CALDESC:Taller «PRÁCTICA INTENSIVA DE MEDITACIÓN EN LA CALMA MENTAL»
BEGIN:VEVENT
DTSTART;TZID=Europe/Helsinki:20200125T100000
DTEND;TZID=Europe/Helsinki:20200125T193000
SUMMARY:Taller «PRÁCTICA INTENSIVA DE MEDITACIÓN EN LA CALMA MENTAL»
DESCRIPTION:Curso dirigido a personas que deseen iniciarse en la práctica de la meditación y a meditadores o practicantes de cualquier técnica corporal que deseen mejorar su práctica estudiando y practicando en profundidad el método del Shine o Calma Mental del Linaje Budista.
URL:https://www.essentialinstitute.org/tienda/_eventos/thubten-sherab-ling/taller-practica-intensiva-meditacion-la-calma-mental/
LOCATION:C/ Topazi 8 1ª, 08012 Barcelona
END:VEVENT
END:VCALENDAR
