BEGIN:VCALENDAR
VERSION:2.0
PRODID:-//Essential Institute by Cris Bolívar
CALSCALE:GREGORIAN
METHOD:PUBLISH
X-WR-CALNAME:Essential Institute by Cris Bolívar
X-ORIGINAL-URL:https://www.essentialinstitute.org/tienda/_eventos/programas-formativos/modulo-sabiduria-budista-programa-sabiduria-milenaria-aplicada-al-desarrollo-del-esencial-coaching/
X-WR-CALDESC:Módulo SABIDURÍA BUDISTA &#8211; Programa de «SABIDURÍA MILENARIA» aplicada al desarrollo del Ser Esencial y el coaching
BEGIN:VEVENT
DTSTART;TZID=Europe/Helsinki:20200414T200000
DTEND;TZID=Europe/Helsinki:20200414T220000
SUMMARY:Módulo SABIDURÍA BUDISTA – Programa de «SABIDURÍA MILENARIA» aplicada al desarrollo del Ser Esencial y el coaching
DESCRIPTION:Módulo Sabiduría Budista, por Ricard Rotllan: Principios fundamentales del budismo: Consciencia y conocimiento (Epistemología). Verdades Nobles: Reconocer la existencia del sufrimiento, su origen, la autentica cesación (Nirvana), el camino de la cesación. Adiestramiento mental: Ética, concentración y sabiduría. Aspectos principales del camino: Determinación, altruismo y sabiduría transcendental. Aspectos clave de la filosofía budista: Vacuidad, Karma… Aplicaciones al desarrollo personal. El programa de Sabiduría Milenaria, es un programa de 6 módulos que recoge las filosofías y sabidurías milenarias de gran trascendencia en nuestro mundo y está orientado a su aplicación al propio desarrollo personal y al acompañamiento en coaching, especialmente Coaching Esencial, transpersonal y de profundidad. El programa está pensado para recorrer un viaje hacia el despertar de la propia sabiduría a lo largo de las distintas sabidurías y su aplicación al desarrollo personal. Cada módulo está impartido por maestros expertos en sus áreas.
URL:https://www.essentialinstitute.org/tienda/_eventos/programas-formativos/modulo-sabiduria-budista-programa-sabiduria-milenaria-aplicada-al-desarrollo-del-esencial-coaching/
LOCATION:Barcelona, España
END:VEVENT
END:VCALENDAR
