BEGIN:VCALENDAR
VERSION:2.0
PRODID:-//Essential Institute by Cris Bolívar
CALSCALE:GREGORIAN
METHOD:PUBLISH
X-WR-CALNAME:Essential Institute by Cris Bolívar
X-ORIGINAL-URL:https://www.essentialinstitute.org/tienda/_eventos/programas-formativos/modulo-sabiduria-la-cabala-programa-sabiduria-milenaria-aplicada-al-desarrollo-del-esencial-coaching/
X-WR-CALDESC:Módulo SABIDURÍA DE LA CÁBALA &#8211; Programa de «SABIDURÍA MILENARIA» aplicada al desarrollo del Ser Esencial y el coaching &#8211; aula virtual
BEGIN:VEVENT
DTSTART;TZID=Europe/Helsinki:20200428T200000
DTEND;TZID=Europe/Helsinki:20200428T220000
SUMMARY:Módulo SABIDURÍA DE LA CÁBALA – Programa de «SABIDURÍA MILENARIA» aplicada al desarrollo del Ser Esencial y el coaching – aula virtual
DESCRIPTION:Módulo La Sabiduría de la Cábala + Sesión en vivo de Coaching Esencial y Cábala. Por David Graña. Cris Bolívar en Coaching Esencial: Metafísica y cosmogonía. El árbol de la vida: sefirots y senderos. Conceptos básicos. Sesión en vivo de Coaching Esencial y Cábala. Aplicaciones al coaching y al desarrollo personal. El programa de Sabiduría Milenaria, es un programa de 6 módulos que recoge las filosofías y sabidurías milenarias de gran trascendencia en nuestro mundo y está orientado a su aplicación al propio desarrollo personal y al acompañamiento en coaching, especialmente Coaching Esencial, transpersonal y de profundidad. El programa está pensado para recorrer un viaje hacia el despertar de la propia sabiduría a lo largo de las distintas sabidurías y su aplicación al desarrollo personal. Cada módulo está impartido por maestros expertos en sus áreas.
URL:https://www.essentialinstitute.org/tienda/_eventos/programas-formativos/modulo-sabiduria-la-cabala-programa-sabiduria-milenaria-aplicada-al-desarrollo-del-esencial-coaching/
LOCATION:Barcelona, España
END:VEVENT
END:VCALENDAR
