BEGIN:VCALENDAR
VERSION:2.0
PRODID:-//Essential Institute by Cris Bolívar
CALSCALE:GREGORIAN
METHOD:PUBLISH
X-WR-CALNAME:Essential Institute by Cris Bolívar
X-ORIGINAL-URL:https://www.essentialinstitute.org/tienda/ticket/webinar-poder-del-amor-viaje-la-sabiduria-interior/
X-WR-CALDESC:Webinar “EL PODER DEL AMOR  EN EL VIAJE  A LA SABIDURÍA INTERIOR”
BEGIN:VEVENT
DTSTART;TZID=Europe/Helsinki:20200317T000000
DTEND;TZID=Europe/Helsinki:20200317T000000
SUMMARY:Webinar “EL PODER DEL AMOR  EN EL VIAJE  A LA SABIDURÍA INTERIOR”
DESCRIPTION:webinar •El amar como llave a la sabiduría. Distinciones. •Sanar las heridas, trascender el ego desde el amar. Pautas clave del proceso. •Algunas herramientas para el viaje alquímico: Coaching Esencial, Eneagrama Esencial...
URL:https://www.essentialinstitute.org/tienda/ticket/webinar-poder-del-amor-viaje-la-sabiduria-interior/
LOCATION:
END:VEVENT
END:VCALENDAR
