BEGIN:VCALENDAR
VERSION:2.0
PRODID:-//Essential Institute by Cris Bolívar
CALSCALE:GREGORIAN
METHOD:PUBLISH
X-WR-CALNAME:Essential Institute by Cris Bolívar
X-ORIGINAL-URL:https://www.essentialinstitute.org/tienda/_eventos/thubten-sherab-ling/open-heart-sin-fronteras-encuentro-online/
X-WR-CALDESC:«OPEN HEART SIN FRONTERAS», encuentro online
BEGIN:VEVENT
DTSTART;TZID=Europe/Helsinki:20200405T090000
DTEND;TZID=Europe/Helsinki:20200405T220000
SUMMARY:«OPEN HEART SIN FRONTERAS», encuentro online
DESCRIPTION: El equipo del Festival Internacional "OPEN HEART" está preparando una bella propuesta para apoyar y recargar a tod@s con energía positiva en esta etapa de transformación que estamos viviendo: EL encuentro online "Open Heart SIN Fronteras" Es una edición especial de un día con un link abierto de acceso libre en YouTube para todo el público, que podrá unirse en cualquier momento y desde cualquier lugar del mundo! Un programa con ponencias, conciertos, yoga, meditación, etc. &nbsp;
URL:https://www.essentialinstitute.org/tienda/_eventos/thubten-sherab-ling/open-heart-sin-fronteras-encuentro-online/
LOCATION:
END:VEVENT
END:VCALENDAR
