BEGIN:VCALENDAR
VERSION:2.0
PRODID:-//Essential Institute by Cris Bolívar
CALSCALE:GREGORIAN
METHOD:PUBLISH
X-WR-CALNAME:Essential Institute by Cris Bolívar
X-ORIGINAL-URL:https://www.essentialinstitute.org/tienda/_eventos/thubten-sherab-ling/meditacion-directo-youtube-2/
X-WR-CALDESC:MEDITACIÓN EN DIRECTO YOUTUBE
BEGIN:VEVENT
DTSTART;TZID=Europe/Helsinki:20200410T183000
DTEND;TZID=Europe/Helsinki:20200410T200000
SUMMARY:MEDITACIÓN EN DIRECTO YOUTUBE
DESCRIPTION:Meditación para calmar la mente. Meditación en la ecuanimidad. Meditación con Tara Blanca "La Liberadora" y la repetición de su mantra OM TARE TUTTARE TURE MAMA AYUR PUNYE JÑANA PUSHTIM KURU SWAHA.
URL:https://www.essentialinstitute.org/tienda/_eventos/thubten-sherab-ling/meditacion-directo-youtube-2/
LOCATION:
END:VEVENT
END:VCALENDAR
