BEGIN:VCALENDAR
VERSION:2.0
PRODID:-//Essential Institute by Cris Bolívar
CALSCALE:GREGORIAN
METHOD:PUBLISH
X-WR-CALNAME:Essential Institute by Cris Bolívar
X-ORIGINAL-URL:https://www.essentialinstitute.org/tienda/_eventos/coaching/essential-institute-la-viii-semana-internacional-coaching-sic-icf-coaching-profundidad-rigor-4/
X-WR-CALDESC:Essential Institute en la IX Semana Internacional de Coaching (SIC), ICF &#8211; Para un coaching de profundidad y rigor.
BEGIN:VEVENT
DTSTART;TZID=Europe/Helsinki:20200507T140000
DTEND;TZID=Europe/Helsinki:20200507T153000
SUMMARY:Essential Institute en la IX Semana Internacional de Coaching (SIC), ICF – Para un coaching de profundidad y rigor.
DESCRIPTION:Essential Institute ofrece conferencias gratuitas durante la IX Semana Internacional del Coaching (SIC) de la International Coach Federation, ICF, ofreciendo ponencias para el capítulo de España; Conferencias impartidas por Cris Bolívar, primera española (2005) MCC (Master Certified Coach) y Mentor-Coach Registrado por la ICF, pionera y referente del coaching en España y creadora del Coaching Esencial, es además Profesional acreditada en Eneagrama por la IEA.
URL:https://www.essentialinstitute.org/tienda/_eventos/coaching/essential-institute-la-viii-semana-internacional-coaching-sic-icf-coaching-profundidad-rigor-4/
LOCATION:Barcelona, España
END:VEVENT
END:VCALENDAR
