BEGIN:VCALENDAR
VERSION:2.0
PRODID:-//Essential Institute by Cris Bolívar
CALSCALE:GREGORIAN
METHOD:PUBLISH
X-WR-CALNAME:Essential Institute by Cris Bolívar
X-ORIGINAL-URL:https://www.essentialinstitute.org/tienda/_eventos/coaching/taller-intensivo-arte-preguntar-coaching-esencial-aula-virtual-presencial/
X-WR-CALDESC:Taller intensivo «EL ARTE DE PREGUNTAR EN COACHING ESENCIAL» &#8211; Por aula virtual o presencial
BEGIN:VEVENT
DTSTART;TZID=Europe/Helsinki:20200721T153000
DTEND;TZID=Europe/Helsinki:20200721T213000
SUMMARY:Taller intensivo «EL ARTE DE PREGUNTAR EN COACHING ESENCIAL» – Por aula virtual o presencial
DESCRIPTION:Taller intensivo teórico-práctico de profundización sobre la tecnología del coaching. La pregunta socrática o el método mayéutico. También se trabajan el aprendizaje de tercer orden y la hermenéutica aplicados al arte de preguntar en Coaching. Por aula virtual o presencial. Con créditos de formación ICF.
URL:https://www.essentialinstitute.org/tienda/_eventos/coaching/taller-intensivo-arte-preguntar-coaching-esencial-aula-virtual-presencial/
LOCATION:Carrer Ceràmica, 39, 08035 Barcelona, España
END:VEVENT
END:VCALENDAR
