BEGIN:VCALENDAR
VERSION:2.0
PRODID:-//Essential Institute by Cris Bolívar
CALSCALE:GREGORIAN
METHOD:PUBLISH
X-WR-CALNAME:Essential Institute by Cris Bolívar
X-ORIGINAL-URL:https://www.essentialinstitute.org/tienda/_eventos/coaching/cumbre-hispanoamericana-liderazgo-2020-cris-bolivar-decidir/
X-WR-CALDESC:Cumbre Hispanoamericana de liderazgo 2020, con Cris Bolívar sobre «NEO-LIDERAZGO, EL LIDERAZGO ESENCIAL”
BEGIN:VEVENT
DTSTART;TZID=Europe/Helsinki:20200807T200000
DTEND;TZID=Europe/Helsinki:20200807T210000
SUMMARY:Cumbre Hispanoamericana de liderazgo 2020, con Cris Bolívar sobre «NEO-LIDERAZGO, EL LIDERAZGO ESENCIAL”
DESCRIPTION:Cumbre Hispanoamericana de Liderazgo 2020, con Cris Bolívar con la ponencia "Neo-liderazgo, El liderazgo esencial". En esta ponencia hablaremos de un nuevo concepto de liderazgo, en el marco de la Esencialidad y la Empresa Mariposa Sabiamente Ágil. Un liderazgo para la metamorfosis, para facilitar organizaciones más éticas, con sentido y sabias. &nbsp; &nbsp;
URL:https://www.essentialinstitute.org/tienda/_eventos/coaching/cumbre-hispanoamericana-liderazgo-2020-cris-bolivar-decidir/
LOCATION:
END:VEVENT
END:VCALENDAR
