BEGIN:VCALENDAR
VERSION:2.0
PRODID:-//Essential Institute by Cris Bolívar
CALSCALE:GREGORIAN
METHOD:PUBLISH
X-WR-CALNAME:Essential Institute by Cris Bolívar
X-ORIGINAL-URL:https://www.essentialinstitute.org/tienda/_eventos/coaching/congreso-excelencia-la-farmacia-cris-bolivar-cuidar-nuestra-vulnerabilidad/
X-WR-CALDESC:Congreso Excelencia en la Farmacia, con Cris Bolívar sobre «CUIDAR DE NUESTRA VULNERABILIDAD”
BEGIN:VEVENT
DTSTART;TZID=Europe/Helsinki:20200823T210000
DTEND;TZID=Europe/Helsinki:20200823T220000
SUMMARY:Congreso Excelencia en la Farmacia, con Cris Bolívar sobre «CUIDAR DE NUESTRA VULNERABILIDAD”
DESCRIPTION:Esta ponencia estará CENTRADA en que el FARMACÉUTICO MEJORE SU CUIDADO DE SÍ. &nbsp; &nbsp;
URL:https://www.essentialinstitute.org/tienda/_eventos/coaching/congreso-excelencia-la-farmacia-cris-bolivar-cuidar-nuestra-vulnerabilidad/
LOCATION:
END:VEVENT
END:VCALENDAR
