BEGIN:VCALENDAR
VERSION:2.0
PRODID:-//Essential Institute by Cris Bolívar
CALSCALE:GREGORIAN
METHOD:PUBLISH
X-WR-CALNAME:Essential Institute by Cris Bolívar
X-ORIGINAL-URL:https://www.essentialinstitute.org/tienda/_eventos/coaching/conversacion-cris-bolivar-jose-lucena-neo-liderazgo-la-practica/
X-WR-CALDESC:CONVERSACIÓN entre CRIS BOLÍVAR y JOSÉ LUCENA sobre “El NEO-LIDERAZGO EN LA PRÁCTICA”
BEGIN:VEVENT
DTSTART;TZID=Europe/Helsinki:20200924T160000
DTEND;TZID=Europe/Helsinki:20200924T173000
SUMMARY:CONVERSACIÓN entre CRIS BOLÍVAR y JOSÉ LUCENA sobre “El NEO-LIDERAZGO EN LA PRÁCTICA”
DESCRIPTION:En el entorno de la quinta edición de DC30D (Desafío Coaching 30 Días) de Coaching Global, hablaremos de lo que representa en la práctica la nueva visión del liderazgo: el Neo-liderazgo. Reflexionaremos acerca de cómo el desarrollo del ser impacta en la organización, en el entorno y en lo que nosotros llamamos el Neo-cliente, y cuál puede ser el papel del coaching en todo ello. Y lo haremos con Cris Bolívar, coach MCC y consultora máster en Desarrollo Organizacional y José María Lucena, un Neo-líder, gran ser humano que tiene una amplia visión del impacto de su labor.
URL:https://www.essentialinstitute.org/tienda/_eventos/coaching/conversacion-cris-bolivar-jose-lucena-neo-liderazgo-la-practica/
LOCATION:
END:VEVENT
END:VCALENDAR
