BEGIN:VCALENDAR
VERSION:2.0
PRODID:-//Essential Institute by Cris Bolívar
CALSCALE:GREGORIAN
METHOD:PUBLISH
X-WR-CALNAME:Essential Institute by Cris Bolívar
X-ORIGINAL-URL:https://www.essentialinstitute.org/tienda/_eventos/conferencias/masterclass-convertirse-neo-lider/
X-WR-CALDESC:Masterclass «CONVERTIRSE EN NEO-LÍDER»
BEGIN:VEVENT
DTSTART;TZID=Europe/Helsinki:20210301T170000
DTEND;TZID=Europe/Helsinki:20210301T180000
SUMMARY:Masterclass «CONVERTIRSE EN NEO-LÍDER»
DESCRIPTION:FECHA Y LINK DE ACCESO TODAVÍA POR CONFIRMAR - PRÓXIMAMENTE MÁS INFORMACIÓN Dentro del entorno del congreso virtual "Aprende, emprende, independízate", Cris Bolívar impartirá la conferencia: “CONVERTIRSE EN NEO-LÍDER” El neo-liderazgo como respuesta a los entornos VUCAIF (inciertos, cambiantes, inesperados, conflictivos…) La contribución del ser neo-líder para una vida y un mundo con más sentido. Las cualidades del ser neo-líder. Un caso de emprendimiento desde el neo-liderazgo.
URL:https://www.essentialinstitute.org/tienda/_eventos/conferencias/masterclass-convertirse-neo-lider/
LOCATION:
END:VEVENT
END:VCALENDAR
