BEGIN:VCALENDAR
VERSION:2.0
PRODID:-//Essential Institute by Cris Bolívar
CALSCALE:GREGORIAN
METHOD:PUBLISH
X-WR-CALNAME:Essential Institute by Cris Bolívar
X-ORIGINAL-URL:https://www.essentialinstitute.org/tienda/_eventos/programas-formativos/supervision-e-intervision-coaches-grupo-aprendizaje-practica-virtual-3/
X-WR-CALDESC:SUPERVISIÓN E INTERVISIÓN PARA COACHES (GRUPO DE APRENDIZAJE y PRÁCTICA) &#8211; virtual
BEGIN:VEVENT
DTSTART;TZID=Europe/Helsinki:20210407T190000
DTEND;TZID=Europe/Helsinki:20210407T210000
SUMMARY:SUPERVISIÓN E INTERVISIÓN PARA COACHES (GRUPO DE APRENDIZAJE y PRÁCTICA) – virtual
DESCRIPTION:Un espacio de supervisión e intervisión donde reflexionar sobre la tarea y el ser coach. Como grupo de aprendizaje y práctica, el espacio está enfocado a compartir, co-crear y enriquecerse con la mirada, experiencia y aportaciones de todos los integrantes, está orientado a facilitar el proceso de desarrollo y enriquecimiento profesional. Durante las sesiones, a través de sesiones, revisión de teoría, casos o ejercicios, se abordarán grupalmente las cuestiones relevantes para la mejora del ejercicio del coaching y del ser coach. Con certificado oficial para la ICF.
URL:https://www.essentialinstitute.org/tienda/_eventos/programas-formativos/supervision-e-intervision-coaches-grupo-aprendizaje-practica-virtual-3/
LOCATION:Carrer Ceràmica, 39, 08035 Barcelona, España
END:VEVENT
END:VCALENDAR
