BEGIN:VCALENDAR
VERSION:2.0
PRODID:-//Essential Institute by Cris Bolívar
CALSCALE:GREGORIAN
METHOD:PUBLISH
X-WR-CALNAME:Essential Institute by Cris Bolívar
X-ORIGINAL-URL:https://www.essentialinstitute.org/tienda/_eventos/conferencias/ponencia-webinar-cuidar-nuestra-vulnerabilidad-fundacio-la-caixa/
X-WR-CALDESC:Ponencia-webinar “CUIDAR DE NUESTRA VULNERABILIDAD» para Fundació La Caixa
BEGIN:VEVENT
DTSTART;TZID=Europe/Helsinki:20210218T173000
DTEND;TZID=Europe/Helsinki:20210218T203000
SUMMARY:Ponencia-webinar “CUIDAR DE NUESTRA VULNERABILIDAD» para Fundació La Caixa
DESCRIPTION:¿Qué nos impide conectar con nuestra vulnerabilidad? ¿Cómo cuidar de ella? En este seminario web, Cris Bolívar abordará las claves para que los profesionales de la salud y del ámbito social obtengan herramientas de transformación personal para tratar los desafíos de la situación actual. &nbsp;
URL:https://www.essentialinstitute.org/tienda/_eventos/conferencias/ponencia-webinar-cuidar-nuestra-vulnerabilidad-fundacio-la-caixa/
LOCATION:
END:VEVENT
END:VCALENDAR
