BEGIN:VCALENDAR
VERSION:2.0
PRODID:-//Essential Institute by Cris Bolívar
CALSCALE:GREGORIAN
METHOD:PUBLISH
X-WR-CALNAME:Essential Institute by Cris Bolívar
X-ORIGINAL-URL:https://www.essentialinstitute.org/tienda/_eventos/conferencias/conferencia-mas-alla-del-ego-hacia-la-sabiduria-essential-enneagram-aproach-iea-online-global-conference21/
X-WR-CALDESC:Conferencia “MÁS ALLÁ DEL EGO HACIA LA SABIDURÍA… con el ESSENTIAL ENNEAGRAM APROACH”, IEA Online Global Conference&#8217;21
BEGIN:VEVENT
DTSTART;TZID=Europe/Helsinki:20210716T100000
DTEND;TZID=Europe/Helsinki:20210716T190000
SUMMARY:Conferencia “MÁS ALLÁ DEL EGO HACIA LA SABIDURÍA… con el ESSENTIAL ENNEAGRAM APROACH”, IEA Online Global Conference’21
DESCRIPTION:Organizado por la International Enneagram Association, en la IEA Online Global Conference 2021, bajo el lema “REACHING ACROSS… with the Enneagram”, Cris Bolívar, seleccionada entre profesionales de todo el mundo, impartirá la conferencia "MÁS ALLÁ DEL EGO HACIA LA SABIDURÍA… con el ESSENTIAL ENNEAGRAM APROACH". A lo largo de la ponencia se irá desvelando el proceso transpersonal desde el egotipo, la sanación de la herida, los eneatipos, la completitud del Ser, las ideas santas hacia la sabiduría.
URL:https://www.essentialinstitute.org/tienda/_eventos/conferencias/conferencia-mas-alla-del-ego-hacia-la-sabiduria-essential-enneagram-aproach-iea-online-global-conference21/
LOCATION:
END:VEVENT
END:VCALENDAR
