BEGIN:VCALENDAR
VERSION:2.0
PRODID:-//Essential Institute by Cris Bolívar
CALSCALE:GREGORIAN
METHOD:PUBLISH
X-WR-CALNAME:Essential Institute by Cris Bolívar
X-ORIGINAL-URL:https://www.essentialinstitute.org/tienda/_eventos/coaching/conferencia-transformar-nos-per-transformar-fira-la-terra-catala/
X-WR-CALDESC:Conferència “Transformar-nos per transformar” &#8211; Fira de la Terra (en Català)
BEGIN:VEVENT
DTSTART;TZID=Europe/Helsinki:20210425T100000
DTEND;TZID=Europe/Helsinki:20210425T200000
SUMMARY:Conferència “Transformar-nos per transformar” – Fira de la Terra (en Català)
DESCRIPTION:Amb motiu de la celebració del Dia de la Terra 2021, , a les Jornades de la Fira per la Terra, Cris Bolívar impartirá la conferència “Transformar-nos per transformar”  Saviesa per a l’acció. Neo-lideratge. Compromís amb la transformació evolutiva.
URL:https://www.essentialinstitute.org/tienda/_eventos/coaching/conferencia-transformar-nos-per-transformar-fira-la-terra-catala/
LOCATION:
END:VEVENT
END:VCALENDAR
