BEGIN:VCALENDAR
VERSION:2.0
PRODID:-//Essential Institute by Cris Bolívar
CALSCALE:GREGORIAN
METHOD:PUBLISH
X-WR-CALNAME:Essential Institute by Cris Bolívar
X-ORIGINAL-URL:https://www.essentialinstitute.org/tienda/_eventos/conferencias/1er-simposio-internacional-comunicacion-la-digital-coaches-emprendedores/
X-WR-CALDESC:1er Simposio Internacional de Comunicación en la Era Digital para Coaches Emprendedores
BEGIN:VEVENT
DTSTART;TZID=Europe/Helsinki:20210624T143000
DTEND;TZID=Europe/Helsinki:20210624T150000
SUMMARY:1er Simposio Internacional de Comunicación en la Era Digital para Coaches Emprendedores
DESCRIPTION:Cris Bolívar oradora en el 1er Simposio Internacional de Comunicación en la Era Digital para Coaches Emprendedores: “Más Claridad, Mayor Expansión”. Con 32 referentes internacionales del mundo del Coaching, el Simposio ha sido declarado de “Interés Profesional” por la International Coach Federation ICF Capítulo Argentina y la International Association of Coaching IAC (en su Junta de Gobierno Global). &nbsp;
URL:https://www.essentialinstitute.org/tienda/_eventos/conferencias/1er-simposio-internacional-comunicacion-la-digital-coaches-emprendedores/
LOCATION:
END:VEVENT
END:VCALENDAR
