BEGIN:VCALENDAR
VERSION:2.0
PRODID:-//Essential Institute by Cris Bolívar
CALSCALE:GREGORIAN
METHOD:PUBLISH
X-WR-CALNAME:Essential Institute by Cris Bolívar
X-ORIGINAL-URL:https://www.essentialinstitute.org/tienda/_eventos/coaching/charla-caso-las-hilanderas-semana-internacional-del-coaching-icf-latam/
X-WR-CALDESC:Charla «El caso de Las Hilanderas» &#8211; Semana Internacional del Coaching ICF LATAM
BEGIN:VEVENT
DTSTART;TZID=Europe/Helsinki:20210520T013000
DTEND;TZID=Europe/Helsinki:20210520T023000
SUMMARY:Charla «El caso de Las Hilanderas» – Semana Internacional del Coaching ICF LATAM
DESCRIPTION:Dentro de la Semana Internacional del Coaching de la ICF (International Coaching Federation) Mayo'21, Las Hilanderas (Cris Bolívar, Elena Espinal, Titina Cataño, Laura Bicondoa, Nana Vasquez y Jimena Fajardo) presentarán su caso relacionándolo con la competencia de la ICF "Creando conjuntamente la relación", llevándolo a una praxis real más allá de un espacio de coaching.
URL:https://www.essentialinstitute.org/tienda/_eventos/coaching/charla-caso-las-hilanderas-semana-internacional-del-coaching-icf-latam/
LOCATION:
END:VEVENT
END:VCALENDAR
