BEGIN:VCALENDAR
VERSION:2.0
PRODID:-//Essential Institute by Cris Bolívar
CALSCALE:GREGORIAN
METHOD:PUBLISH
X-WR-CALNAME:Essential Institute by Cris Bolívar
X-ORIGINAL-URL:https://www.essentialinstitute.org/tienda/_eventos/coaching/conferencia-demostracion-coaching-esencial-semana-internacional-del-coaching-icf/
X-WR-CALDESC:Conferencia “Demostración de Coaching Esencial” &#8211; Semana Internacional del Coaching ICF
BEGIN:VEVENT
DTSTART;TZID=Europe/Helsinki:20210518T200000
DTEND;TZID=Europe/Helsinki:20210518T210000
SUMMARY:Conferencia “Demostración de Coaching Esencial” – Semana Internacional del Coaching ICF
DESCRIPTION:Dentro de la Semana Internacional del Coaching de la ICF (International Coaching Federation) Mayo'21, Cris Bolívar, primera MCC española, Máster Essential Coach y creadora del Coaching Esencial realizará una demo de sesión de Coaching Esencial.
URL:https://www.essentialinstitute.org/tienda/_eventos/coaching/conferencia-demostracion-coaching-esencial-semana-internacional-del-coaching-icf/
LOCATION:
END:VEVENT
END:VCALENDAR
