BEGIN:VCALENDAR
VERSION:2.0
PRODID:-//Essential Institute by Cris Bolívar
CALSCALE:GREGORIAN
METHOD:PUBLISH
X-WR-CALNAME:Essential Institute by Cris Bolívar
X-ORIGINAL-URL:https://www.essentialinstitute.org/tienda/_eventos/conferencias/ponencia-mas-alla-del-ego-sabiduria-espiritualidad-coaching-cris-bolivar-florida-global-university-usa/
X-WR-CALDESC:Ponencia “Más allá del ego: sabiduría y espiritualidad en coaching» por Cris Bolívar para Florida Global University (USA)
BEGIN:VEVENT
DTSTART;TZID=Europe/Helsinki:20210903T190000
DTEND;TZID=Europe/Helsinki:20210903T200000
SUMMARY:Ponencia “Más allá del ego: sabiduría y espiritualidad en coaching» por Cris Bolívar para Florida Global University (USA)
DESCRIPTION:En el encuentro Virtual Internacional "Reconociendo diferentes visiones del coaching" organizado por Master Coach Plus - Florida Global University (USA), Cris Bolívar inaugurará el evento con grandes referentes del coaching, con la ponencia “Más allá del ego: sabiduría y espiritualidad en coaching".
URL:https://www.essentialinstitute.org/tienda/_eventos/conferencias/ponencia-mas-alla-del-ego-sabiduria-espiritualidad-coaching-cris-bolivar-florida-global-university-usa/
LOCATION:
END:VEVENT
END:VCALENDAR
