BEGIN:VCALENDAR
VERSION:2.0
PRODID:-//Essential Institute by Cris Bolívar
CALSCALE:GREGORIAN
METHOD:PUBLISH
X-WR-CALNAME:Essential Institute by Cris Bolívar
X-ORIGINAL-URL:https://www.essentialinstitute.org/tienda/_eventos/programas-formativos/taller-haz-crecer-potencial-traves-del-eneagrama-esencial-online-teams/
X-WR-CALDESC:Taller «Haz crecer tu potencial a través del Eneagrama Esencial» &#8211; Online por Teams
BEGIN:VEVENT
DTSTART;TZID=Europe/Helsinki:20211007T173000
DTEND;TZID=Europe/Helsinki:20211007T203000
SUMMARY:Taller «Haz crecer tu potencial a través del Eneagrama Esencial» – Online por Teams
DESCRIPTION:Impartido por Cris Bolívar, Profesional Acreditada con Distinción en Eneagrama (APD) por la IEA y Máster Coach MCC por la ICF. En este taller podrás... - Conocer una poderosa herramienta de autoconocimiento. - Descubrir ideas clave sobre lo que limita nuestro potencial. - Aumentar el nivel de consciencia de quien soy y quien puedo ser. - Ampliar las herramientas para desarrollar el potencial.
URL:https://www.essentialinstitute.org/tienda/_eventos/programas-formativos/taller-haz-crecer-potencial-traves-del-eneagrama-esencial-online-teams/
LOCATION:
END:VEVENT
END:VCALENDAR
