BEGIN:VCALENDAR
VERSION:2.0
PRODID:-//Essential Institute by Cris Bolívar
CALSCALE:GREGORIAN
METHOD:PUBLISH
X-WR-CALNAME:Essential Institute by Cris Bolívar
X-ORIGINAL-URL:https://www.essentialinstitute.org/tienda/_eventos/programas-formativos/mesa-redonda-desapoderar-al-ego-hacia-la-plenitud-profesional-online-teams/
X-WR-CALDESC:Mesa Redonda «Desempoderar al ego, hacia la plenitud profesional» &#8211; Online por Teams
BEGIN:VEVENT
DTSTART;TZID=Europe/Helsinki:20211214T173000
DTEND;TZID=Europe/Helsinki:20211214T193000
SUMMARY:Mesa Redonda «Desempoderar al ego, hacia la plenitud profesional» – Online por Teams
DESCRIPTION:Conoce la importancia de empoderar al ser y desempoderar al ego para vivir una vida profesional con más sentido. En esta mesa redonda, los testigos compartirán su experiencia y aprendizaje, frenos, miedos... y cómo les ayudó en el camino hacia una vida personal y profesional más alineada con el propio ser. Código GP40 Introducida y conducida por Cris Bolívar, Máster Coach MCC por la ICF.
URL:https://www.essentialinstitute.org/tienda/_eventos/programas-formativos/mesa-redonda-desapoderar-al-ego-hacia-la-plenitud-profesional-online-teams/
LOCATION:
END:VEVENT
END:VCALENDAR
