BEGIN:VCALENDAR
VERSION:2.0
PRODID:-//Essential Institute by Cris Bolívar
CALSCALE:GREGORIAN
METHOD:PUBLISH
X-WR-CALNAME:Essential Institute by Cris Bolívar
X-ORIGINAL-URL:https://www.essentialinstitute.org/tienda/_eventos/coaching/taller-introduccion-la-mirada-sistemica-coaching-virtual-presencial-4/
X-WR-CALDESC:Taller «La mirada SISTÉMICA en Coaching» &#8211; virtual o presencial
BEGIN:VEVENT
DTSTART;TZID=Europe/Helsinki:20220317T173000
DTEND;TZID=Europe/Helsinki:20220317T213000
SUMMARY:Taller «La mirada SISTÉMICA en Coaching» – virtual o presencial
DESCRIPTION:El taller será teórico-práctico, se hará una introducción a la teoría sistémica abordando distintos temas desde el enfoque de profundidad de la mirada esencial y practicando con herramientas sistémicas sobre las que los participantes realizarán prácticas de coaching. Válido para la obtención de créditos de formación ICF para coaches.
URL:https://www.essentialinstitute.org/tienda/_eventos/coaching/taller-introduccion-la-mirada-sistemica-coaching-virtual-presencial-4/
LOCATION:Carrer Ceràmica, 39, 08035 Barcelona, España
END:VEVENT
END:VCALENDAR
